BEGIN:VCALENDAR
VERSION:2.0
PRODID:-//Tukios.com/
BEGIN:VEVENT
UID:e64571ea-0dc0-494b-8da1-679a3d474588@www.lucasfuneralhomes.com
DTSTAMP:20260425T225145Z
DTSTART:20260512T190000Z
DTEND:20260512T193000Z
SUMMARY:Military Graveside Service
DESCRIPTION:
URL:https://www.lucasfuneralhomes.com/obituaries/russell-hansen
LOCATION: 2000 Mountain Creek Parkway  Dallas TX 75211
GEO:32.7156123;-96.9421747
END:VEVENT
END:VCALENDAR