BEGIN:VCALENDAR
VERSION:2.0
PRODID:-//Tukios.com/
BEGIN:VEVENT
UID:806004cb-8c2e-4d61-b6a3-833f7c1a0a06@www.lucasfuneralhomes.com
DTSTAMP:20260425T225906Z
DTSTART:20260512T170000Z
DTEND:20260512T180000Z
SUMMARY:Funeral Service
DESCRIPTION:
URL:https://www.lucasfuneralhomes.com/obituaries/russell-hansen
LOCATION: 1321 Precinct Line Rd  Hurst TX 76053
GEO:32.8346017;-97.1867984
END:VEVENT
END:VCALENDAR