BEGIN:VCALENDAR
VERSION:2.0
PRODID:-//Tukios.com/
BEGIN:VEVENT
UID:efcc87f7-b61f-4459-8eb7-c788fe990a69@www.lucasfuneralhomes.com
DTSTAMP:20260425T225600Z
DTSTART:20260512T160000Z
DTEND:20260512T170000Z
SUMMARY:Visitation
DESCRIPTION:
URL:https://www.lucasfuneralhomes.com/obituaries/russell-hansen
LOCATION: 1321 Precinct Line Rd  Hurst TX 76053
GEO:32.8346017;-97.1867984
END:VEVENT
END:VCALENDAR