BEGIN:VCALENDAR
VERSION:2.0
PRODID:-//Tukios.com/
BEGIN:VEVENT
UID:a2be8ee9-a3b8-4d97-900d-185ba914c0aa@www.lucasfuneralhomes.com
DTSTAMP:20260420T235133Z
DTSTART:20260425T190000Z
DTEND:20260425T200000Z
SUMMARY:Celebration of Life
DESCRIPTION:
URL:https://www.lucasfuneralhomes.com/obituaries/naoma-ennis
LOCATION: 1321 Precinct Line Rd  Hurst TX 76053
GEO:32.8346017;-97.1867984
END:VEVENT
END:VCALENDAR