BEGIN:VCALENDAR
VERSION:2.0
PRODID:-//Tukios.com/
BEGIN:VEVENT
UID:8736b87e-3b95-4abf-a13e-d249c904315d@www.lucasfuneralhomes.com
DTSTAMP:20260420T090200Z
DTSTART:20260306T183000Z
DTEND:20260306T190000Z
SUMMARY:Inurnment
DESCRIPTION:
URL:https://www.lucasfuneralhomes.com/obituaries/leo-talent
LOCATION: 7935 Main Street  North Richland Hills TX 76182
GEO:32.8673259;-97.2105863
END:VEVENT
END:VCALENDAR