BEGIN:VCALENDAR
VERSION:2.0
PRODID:-//Tukios.com/
BEGIN:VEVENT
UID:b600ac2e-03e5-472f-a5a8-b8787772fb04@www.lucasfuneralhomes.com
DTSTAMP:20260425T000424Z
DTSTART:20260509T150000Z
DTEND:20260509T160000Z
SUMMARY:Memorial Service
DESCRIPTION:
URL:https://www.lucasfuneralhomes.com/obituaries/karen-casper
LOCATION: 1321 Precinct Line Rd  Hurst TX 76053
GEO:32.8346017;-97.1867984
END:VEVENT
END:VCALENDAR