BEGIN:VCALENDAR
VERSION:2.0
PRODID:-//Tukios.com/
BEGIN:VEVENT
UID:878084a1-1634-421a-8a51-bdffbd33535e@www.lucasfuneralhomes.com
DTSTAMP:20260419T222945Z
DTSTART:20260423T190000Z
DTEND:20260423T193000Z
SUMMARY:Burial
DESCRIPTION:
URL:https://www.lucasfuneralhomes.com/obituaries/hoang-phan
LOCATION:Bourland Cemetery 900 Bourland Rd  Keller TX 76248
GEO:32.946688;-97.2440476
END:VEVENT
END:VCALENDAR