BEGIN:VCALENDAR
VERSION:2.0
PRODID:-//Tukios.com/
BEGIN:VEVENT
UID:b2fd933e-13f2-4bfd-9e5f-251d59a8b193@www.lucasfuneralhomes.com
DTSTAMP:20260419T222445Z
DTSTART:20260426T160000Z
DTEND:20260426T180000Z
SUMMARY:Funeral Service
DESCRIPTION:
URL:https://www.lucasfuneralhomes.com/obituaries/hoang-phan
LOCATION: 1601 S Main St  Keller TX 76248
GEO:32.9061591;-97.2560825
END:VEVENT
END:VCALENDAR