BEGIN:VCALENDAR
VERSION:2.0
PRODID:-//Tukios.com/
BEGIN:VEVENT
UID:ab478311-060e-437a-bd5a-18b34edf8750@www.lucasfuneralhomes.com
DTSTAMP:20260419T222908Z
DTSTART:20260426T140000Z
DTEND:20260426T160000Z
SUMMARY:Visitation
DESCRIPTION:
URL:https://www.lucasfuneralhomes.com/obituaries/hoang-phan
LOCATION: 1601 S Main St  Keller TX 76248
GEO:32.9061591;-97.2560825
END:VEVENT
END:VCALENDAR