BEGIN:VCALENDAR
VERSION:2.0
PRODID:-//Tukios.com/
BEGIN:VEVENT
UID:e35f1fef-8753-4226-a404-c7306113c96c@www.lucasfuneralhomes.com
DTSTAMP:20260424T100140Z
DTSTART:20260516T190000Z
DTEND:20260516T200000Z
SUMMARY:Celebration of Life
DESCRIPTION:
URL:https://www.lucasfuneralhomes.com/obituaries/edna-merritt
LOCATION:St Timothy Cumberland Presbyterian Church 3001 Forest Ridge 
	Drive  Bedford TX 76021
GEO:32.8541182;-97.1445195
END:VEVENT
END:VCALENDAR