BEGIN:VCALENDAR
VERSION:2.0
PRODID:-//Tukios.com/
BEGIN:VEVENT
UID:d06f9459-08ec-4acb-8f5e-5561afcb721b@www.lucasfuneralhomes.com
DTSTAMP:20260424T014657Z
DTSTART:20260430T230000Z
DTEND:20260501T010000Z
SUMMARY:Visitation with Family and Friends
DESCRIPTION:
URL:https://www.lucasfuneralhomes.com/obituaries/doris-nix
LOCATION: 1321 Precinct Line Rd  Hurst TX 76053
GEO:32.8346017;-97.1867984
END:VEVENT
END:VCALENDAR