BEGIN:VCALENDAR
VERSION:2.0
PRODID:-//Tukios.com/
BEGIN:VEVENT
UID:51760ef8-2f80-4fb7-a9af-3e2aebd7805c@www.lucasfuneralhomes.com
DTSTAMP:20260419T221631Z
DTSTART:20260422T161500Z
DTEND:20260422T163000Z
SUMMARY:Burial
DESCRIPTION:
URL:https://www.lucasfuneralhomes.com/obituaries/donny-charlton
LOCATION: 2000 Mountain Creek Parkway  Dallas TX 75211
GEO:32.7156123;-96.9421747
END:VEVENT
END:VCALENDAR