BEGIN:VCALENDAR
VERSION:2.0
PRODID:-//Tukios.com/
BEGIN:VEVENT
UID:fadf45c3-53f6-4895-8dc6-5f09e9d9d207@www.lucasfuneralhomes.com
DTSTAMP:20260425T191203Z
DTSTART:20260427T170000Z
DTEND:20260427T190000Z
SUMMARY:Visitation
DESCRIPTION:
URL:https://www.lucasfuneralhomes.com/obituaries/daniel-fonseca-martinez
LOCATION: 700 W Wall St  Grapevine TX 76051
GEO:32.9405143;-97.0840102
END:VEVENT
END:VCALENDAR