BEGIN:VCALENDAR
VERSION:2.0
PRODID:-//Tukios.com/
BEGIN:VEVENT
UID:2a35ec62-da11-4bc5-a32a-118c5687215f@www.lucasfuneralhomes.com
DTSTAMP:20260420T204424Z
DTSTART:20260507T190000Z
DTEND:20260507T220000Z
SUMMARY:Celebration of Life
DESCRIPTION:
URL:https://www.lucasfuneralhomes.com/obituaries/charles-thompson
LOCATION:Southern Oaks Golf & Tennis Club 13765 Southern Oaks Dr  
	Burleson TX 76028
GEO:32.5559771;-97.2905751
END:VEVENT
END:VCALENDAR