BEGIN:VCALENDAR
VERSION:2.0
PRODID:-//Tukios.com/
BEGIN:VEVENT
UID:97808627-fdc5-4f0a-9bf0-5a31953fd0f1@www.lucasfuneralhomes.com
DTSTAMP:20260421T235035Z
DTSTART:20260501T183000Z
DTEND:20260501T193000Z
SUMMARY:Celebration of Life
DESCRIPTION:
URL:https://www.lucasfuneralhomes.com/obituaries/casey-wise
LOCATION:Bronco’s Sports Bar & Grill 900 Airport Freeway  Hurst TX 
	76054
GEO:32.840397;-97.1923706
END:VEVENT
END:VCALENDAR