BEGIN:VCALENDAR
VERSION:2.0
PRODID:-//Tukios.com/
BEGIN:VEVENT
UID:8a5570e6-87e2-4754-a1c9-c3d752da6ae9@www.lucasfuneralhomes.com
DTSTAMP:20260421T234727Z
DTSTART:20260501T160000Z
DTEND:20260501T170000Z
SUMMARY:Memorial Service
DESCRIPTION:
URL:https://www.lucasfuneralhomes.com/obituaries/casey-wise
LOCATION: 1321 Precinct Line Rd  Hurst TX 76053
GEO:32.8346017;-97.1867984
END:VEVENT
END:VCALENDAR