BEGIN:VCALENDAR
VERSION:2.0
PRODID:-//Tukios.com/
BEGIN:VEVENT
UID:6889b1ad-3025-4c87-bfc3-d2c50c00f0bb@www.lucasfuneralhomes.com
DTSTAMP:20260423T191458Z
DTSTART:20260424T180000Z
DTEND:20260424T190000Z
SUMMARY:Graveside Service
DESCRIPTION:
URL:https://www.lucasfuneralhomes.com/obituaries/carlos-fajardo
LOCATION: 580 Memorial Plaza  Burleson TX 76028
GEO:32.537943;-97.308092
END:VEVENT
END:VCALENDAR